BEGIN:VCALENDAR
VERSION:2.0
PRODID:-//eventon.com NONSGML v1.0//EN
CALSCALE:GREGORIAN
METHOD:PUBLISH
BEGIN:VEVENT
UID:69e921a80f4a6
DTSTAMP:20260422T142944
DTSTART:20230628T110000Z
DTEND:20230628T073000Z
TZID:America/Panama
LOCATION:
SUMMARY:Taller coimpacta: La Curva J de las Dinámicas Humanas en el Cambio" con Flor García
DESCRIPTION:🌀 ¿Por qué? Al conversar con líderes de cambio social que están viviendo crecimiento y alta demanda\,  es frecuente encontrar cansancio y frustración. Parece una paradoja que cuando el crecimiento se acelera\,  estamos en nuestro mejor momento\,  pero es difícil disfrutarlo pues apenas logramos responder. Esto también se manifiesta en los equipos.   🌀  ¿Qué? La Curva J[..]\nhttps://coimpacta.com/events/taller-coimpacta-la-curva-j-de-las-dinamicas-humanas-en-el-cambio-con-flor-garcia/var/event_access
URL:https://coimpacta.com/events/taller-coimpacta-la-curva-j-de-las-dinamicas-humanas-en-el-cambio-con-flor-garcia/var/event_access
END:VEVENT
END:VCALENDAR