BEGIN:VCALENDAR
VERSION:2.0
PRODID:-//eventon.com NONSGML v1.0//EN
CALSCALE:GREGORIAN
METHOD:PUBLISH
BEGIN:VEVENT
UID:69e5e80507cf0
DTSTAMP:20260420T034701
DTSTART:20221019T120000Z
DTEND:20221019T080000Z
TZID:America/Panama
LOCATION:
SUMMARY:Herramientas de Mindfulness para Profesionales de Cambio Social
DESCRIPTION:Herramientas de Mindfulness para Profesionales de Cambio Social (por Carolina Maduro) Ejercicios prácticos para reducir el estrés\,  regular nuestras emociones y mejorar nuestro rendimiento. Fechas 19 y 26 de octubre\,  2 y 9 de noviembre (1 hora/día) Al ser miembro de la comunidad coimpacta\,  tienes acceso gratuito a este curso[..]\nhttps://coimpacta.com/events/herramientas-de-mindfulness-para-profesionales-de-cambio-social-19102022/var/event_access
URL:https://coimpacta.com/events/herramientas-de-mindfulness-para-profesionales-de-cambio-social-19102022/var/event_access
END:VEVENT
END:VCALENDAR